BEGIN:VCALENDAR
VERSION:2.0
PRODID:-//Inland Empire Labor Council , AFL-CIO - ECPv6.15.20//NONSGML v1.0//EN
CALSCALE:GREGORIAN
METHOD:PUBLISH
X-WR-CALNAME:Inland Empire Labor Council , AFL-CIO
X-ORIGINAL-URL:https://ielabor.org
X-WR-CALDESC:Events for Inland Empire Labor Council , AFL-CIO
REFRESH-INTERVAL;VALUE=DURATION:PT1H
X-Robots-Tag:noindex
X-PUBLISHED-TTL:PT1H
BEGIN:VTIMEZONE
TZID:America/Los_Angeles
BEGIN:DAYLIGHT
TZOFFSETFROM:-0800
TZOFFSETTO:-0700
TZNAME:PDT
DTSTART:20250309T100000
END:DAYLIGHT
BEGIN:STANDARD
TZOFFSETFROM:-0700
TZOFFSETTO:-0800
TZNAME:PST
DTSTART:20251102T090000
END:STANDARD
BEGIN:DAYLIGHT
TZOFFSETFROM:-0800
TZOFFSETTO:-0700
TZNAME:PDT
DTSTART:20260308T100000
END:DAYLIGHT
BEGIN:STANDARD
TZOFFSETFROM:-0700
TZOFFSETTO:-0800
TZNAME:PST
DTSTART:20261101T090000
END:STANDARD
BEGIN:DAYLIGHT
TZOFFSETFROM:-0800
TZOFFSETTO:-0700
TZNAME:PDT
DTSTART:20270314T100000
END:DAYLIGHT
BEGIN:STANDARD
TZOFFSETFROM:-0700
TZOFFSETTO:-0800
TZNAME:PST
DTSTART:20271107T090000
END:STANDARD
END:VTIMEZONE
BEGIN:VEVENT
DTSTART;TZID=America/Los_Angeles:20260430T160000
DTEND;TZID=America/Los_Angeles:20260430T200000
DTSTAMP:20260422T032257
CREATED:20260421T232014Z
LAST-MODIFIED:20260421T232018Z
UID:13119-1777564800-1777579200@ielabor.org
SUMMARY:Vote w/Unions! Campaign Kickoff
DESCRIPTION:Join the Inland Empire’s unions for our Primary Campaign Kickoff! We’ll be phone banking and training volunteers on how to use PDI in order to canvass for pro-worker candidates. RSVP here.
URL:https://ielabor.org/event/vote-w-unions-campaign-kickoff/
ATTACH;FMTTYPE=image/jpeg:https://ielabor.org/wp-content/uploads/2026/04/2026-Vote-with-IE-Labor.jpg
END:VEVENT
BEGIN:VEVENT
DTSTART;TZID=America/Los_Angeles:20260508T130000
DTEND;TZID=America/Los_Angeles:20260508T130000
DTSTAMP:20260422T032257
CREATED:20260107T211434Z
LAST-MODIFIED:20260107T211520Z
UID:12619-1778245200-1778245200@ielabor.org
SUMMARY:Politics & Policy Committee Meeting
DESCRIPTION:The Committee on Political Education (COPE)\, meets every second Friday of each month at 1:00 PM. \n\n\n\nIELC Delegate Meeting Schedule 2026Download
URL:https://ielabor.org/event/politics-policy-committee-meeting-4/
CATEGORIES:COPE,COPE Meetings,Political
END:VEVENT
BEGIN:VEVENT
DTSTART;TZID=America/Los_Angeles:20260512T183000
DTEND;TZID=America/Los_Angeles:20260512T183000
DTSTAMP:20260422T032257
CREATED:20251211T013219Z
LAST-MODIFIED:20251211T013222Z
UID:12473-1778610600-1778610600@ielabor.org
SUMMARY:May Delegate Meeting
DESCRIPTION:Meeting starts promptly at 6:30 PM. Union delegates please arrive early for food and refreshments. Download the schedule below.  \n\n\n\n\nIELC Delegate Meeting Schedule 2026Download
URL:https://ielabor.org/event/may-delegate-meeting-2/
CATEGORIES:Delegate Meetings
END:VEVENT
BEGIN:VEVENT
DTSTART;TZID=America/Los_Angeles:20260609T183000
DTEND;TZID=America/Los_Angeles:20260609T183000
DTSTAMP:20260422T032257
CREATED:20251211T013421Z
LAST-MODIFIED:20251211T013453Z
UID:12476-1781029800-1781029800@ielabor.org
SUMMARY:June Delegate Meeting
DESCRIPTION:Meeting starts promptly at 6:30 PM. Union delegates please arrive early for food and refreshments. Download the schedule below.  \n\n\n\n\nIELC Delegate Meeting Schedule 2026Download
URL:https://ielabor.org/event/june-delegate-meeting-2/
CATEGORIES:Delegate Meetings
END:VEVENT
BEGIN:VEVENT
DTSTART;TZID=America/Los_Angeles:20260612T130000
DTEND;TZID=America/Los_Angeles:20260612T130000
DTSTAMP:20260422T032257
CREATED:20260107T212531Z
LAST-MODIFIED:20260107T212534Z
UID:12623-1781269200-1781269200@ielabor.org
SUMMARY:Politics & Policy Committee Meeting
DESCRIPTION:The Committee on Political Education (COPE)\, meets every second Friday of each month at 1:00 PM. \n\n\n\nIELC Delegate Meeting Schedule 2026Download
URL:https://ielabor.org/event/politics-policy-committee-meeting-5/
CATEGORIES:COPE,COPE Meetings,Political
END:VEVENT
BEGIN:VEVENT
DTSTART;TZID=America/Los_Angeles:20260710T130000
DTEND;TZID=America/Los_Angeles:20260710T130000
DTSTAMP:20260422T032257
CREATED:20260107T212629Z
LAST-MODIFIED:20260107T214442Z
UID:12626-1783688400-1783688400@ielabor.org
SUMMARY:Politics & Policy Committee Meeting
DESCRIPTION:The Committee on Political Education (COPE)\, meets every second Friday of each month at 1:00 PM. \n\n\n\nIELC Delegate Meeting Schedule 2026Download
URL:https://ielabor.org/event/politics-policy-committee-meeting-6/
CATEGORIES:COPE,COPE Meetings,Political
END:VEVENT
BEGIN:VEVENT
DTSTART;TZID=America/Los_Angeles:20260714T183000
DTEND;TZID=America/Los_Angeles:20260714T183000
DTSTAMP:20260422T032257
CREATED:20251211T013557Z
LAST-MODIFIED:20251211T013600Z
UID:12478-1784053800-1784053800@ielabor.org
SUMMARY:July Delegate Meeting
DESCRIPTION:Meeting starts promptly at 6:30 PM. Union delegates please arrive early for food and refreshments. Download the schedule below.  \n\n\n\n\nIELC Delegate Meeting Schedule 2026Download
URL:https://ielabor.org/event/july-delegate-meeting-2/
CATEGORIES:Delegate Meetings
END:VEVENT
BEGIN:VEVENT
DTSTART;TZID=America/Los_Angeles:20260811T183000
DTEND;TZID=America/Los_Angeles:20260811T183000
DTSTAMP:20260422T032257
CREATED:20251211T013708Z
LAST-MODIFIED:20251211T015726Z
UID:12480-1786473000-1786473000@ielabor.org
SUMMARY:August Delegate Meeting
DESCRIPTION:Meeting starts promptly at 6:30 PM. Union delegates please arrive early for food and refreshments. Download the schedule below.  \n\n\n\n\nIELC Delegate Meeting Schedule 2026Download
URL:https://ielabor.org/event/august-delegate-meeting-3/
CATEGORIES:Delegate Meetings
END:VEVENT
BEGIN:VEVENT
DTSTART;TZID=America/Los_Angeles:20260814T130000
DTEND;TZID=America/Los_Angeles:20260814T130000
DTSTAMP:20260422T032257
CREATED:20260107T214609Z
LAST-MODIFIED:20260107T214611Z
UID:12628-1786712400-1786712400@ielabor.org
SUMMARY:Politics & Policy Committee Meeting
DESCRIPTION:The Committee on Political Education (COPE)\, meets every second Friday of each month at 1:00 PM. \n\n\n\nIELC Delegate Meeting Schedule 2026Download
URL:https://ielabor.org/event/politics-policy-committee-meeting-7/
CATEGORIES:COPE,COPE Meetings,Political
END:VEVENT
BEGIN:VEVENT
DTSTART;TZID=America/Los_Angeles:20260908T183000
DTEND;TZID=America/Los_Angeles:20260908T183000
DTSTAMP:20260422T032257
CREATED:20251211T014113Z
LAST-MODIFIED:20251211T014116Z
UID:12483-1788892200-1788892200@ielabor.org
SUMMARY:September Delegate Meeting
DESCRIPTION:Meeting starts promptly at 6:30 PM. Union delegates please arrive early for food and refreshments. Download the schedule below.  \n\n\n\n\nIELC Delegate Meeting Schedule 2026Download
URL:https://ielabor.org/event/september-delegate-meeting-3/
END:VEVENT
BEGIN:VEVENT
DTSTART;TZID=America/Los_Angeles:20260911T130000
DTEND;TZID=America/Los_Angeles:20260911T170000
DTSTAMP:20260422T032257
CREATED:20260107T214737Z
LAST-MODIFIED:20260107T214756Z
UID:12630-1789131600-1789146000@ielabor.org
SUMMARY:Politics & Policy Committee Meeting
DESCRIPTION:The Committee on Political Education (COPE)\, meets every second Friday of each month at 1:00 PM. \n\n\n\nIELC Delegate Meeting Schedule 2026Download
URL:https://ielabor.org/event/politics-policy-committee-meeting-8/
CATEGORIES:COPE,COPE Meetings,Political
END:VEVENT
BEGIN:VEVENT
DTSTART;TZID=America/Los_Angeles:20261009T130000
DTEND;TZID=America/Los_Angeles:20261009T170000
DTSTAMP:20260422T032257
CREATED:20260107T215025Z
LAST-MODIFIED:20260107T215050Z
UID:12633-1791550800-1791565200@ielabor.org
SUMMARY:Politics & Policy Committee Meeting
DESCRIPTION:The Committee on Political Education (COPE)\, meets every second Friday of each month at 1:00 PM. \n\n\n\nIELC Delegate Meeting Schedule 2026Download
URL:https://ielabor.org/event/politics-policy-committee-meeting-9/
CATEGORIES:COPE,COPE Meetings,Political
END:VEVENT
BEGIN:VEVENT
DTSTART;TZID=America/Los_Angeles:20261013T183000
DTEND;TZID=America/Los_Angeles:20261013T183000
DTSTAMP:20260422T032257
CREATED:20251211T015241Z
LAST-MODIFIED:20251211T015244Z
UID:12487-1791916200-1791916200@ielabor.org
SUMMARY:October Delegate Meeting
DESCRIPTION:Meeting starts promptly at 6:30 PM. Union delegates please arrive early for food and refreshments. Download the schedule below.  \n\n\n\n\nIELC Delegate Meeting Schedule 2026Download
URL:https://ielabor.org/event/october-delegate-meeting-2/
CATEGORIES:Delegate Meetings
END:VEVENT
BEGIN:VEVENT
DTSTART;TZID=America/Los_Angeles:20261110T183000
DTEND;TZID=America/Los_Angeles:20261110T183000
DTSTAMP:20260422T032257
CREATED:20251211T015444Z
LAST-MODIFIED:20251211T015447Z
UID:12489-1794335400-1794335400@ielabor.org
SUMMARY:November Delegate Meeting
DESCRIPTION:Meeting starts promptly at 6:30 PM. Union delegates please arrive early for food and refreshments. Download the schedule below.  \n\n\n\n\nIELC Delegate Meeting Schedule 2026Download
URL:https://ielabor.org/event/november-delegate-meeting-3/
CATEGORIES:Delegate Meetings
END:VEVENT
BEGIN:VEVENT
DTSTART;TZID=America/Los_Angeles:20261113T130000
DTEND;TZID=America/Los_Angeles:20261113T130000
DTSTAMP:20260422T032257
CREATED:20260107T215152Z
LAST-MODIFIED:20260107T215154Z
UID:12636-1794574800-1794574800@ielabor.org
SUMMARY:Politics & Policy Committee Meeting
DESCRIPTION:The Committee on Political Education (COPE)\, meets every second Friday of each month at 1:00 PM. \n\n\n\nIELC Delegate Meeting Schedule 2026Download
URL:https://ielabor.org/event/politics-policy-committee-meeting-10/
CATEGORIES:COPE,COPE Meetings,Political
END:VEVENT
BEGIN:VEVENT
DTSTART;TZID=America/Los_Angeles:20261208T183000
DTEND;TZID=America/Los_Angeles:20261208T183000
DTSTAMP:20260422T032257
CREATED:20251211T015546Z
LAST-MODIFIED:20251211T015548Z
UID:12492-1796754600-1796754600@ielabor.org
SUMMARY:December Delegate Meeting
DESCRIPTION:Meeting starts promptly at 6:30 PM. Union delegates please arrive early for food and refreshments. Download the schedule below.  \n\n\n\n\nIELC Delegate Meeting Schedule 2026Download
URL:https://ielabor.org/event/december-delegate-meeting-2/
CATEGORIES:Delegate Meetings
END:VEVENT
BEGIN:VEVENT
DTSTART;TZID=America/Los_Angeles:20261211T130000
DTEND;TZID=America/Los_Angeles:20261211T130000
DTSTAMP:20260422T032257
CREATED:20260107T215254Z
LAST-MODIFIED:20260107T215257Z
UID:12638-1796994000-1796994000@ielabor.org
SUMMARY:Politics & Policy Committee Meeting
DESCRIPTION:The Committee on Political Education (COPE)\, meets every second Friday of each month at 1:00 PM. \n\n\n\nIELC Delegate Meeting Schedule 2026Download
URL:https://ielabor.org/event/politics-policy-committee-meeting-11/
CATEGORIES:COPE,COPE Meetings,Political
END:VEVENT
END:VCALENDAR